BEGIN:VCALENDAR
PRODID:NingEventWidget-v1
VERSION:2.0
METHOD:PUBLISH
BEGIN:VEVENT
UID:4320450:Event:56207
DTSTAMP:20260425T125822Z
SUMMARY:Buddhist Psychology: Education for Liberation
DESCRIPTION:Are you looking to continue your education? Would you like
  to discover your own spirituality? Have you ever wondered if there is
  more to human behavior than is explained by classical psychology?\nFo
 undation Program is a spirituality course designed to learn the practi
 ces of modern Buddhism. You will study teachings that can be applied t
 o your everyday life, collaborate with other students, and reach your 
 greatest potential. Taught by senior monk, Gen Tenzin.\nA new course o
 n the book, \"How to Understand the Mind\", will meet on Tuesdays star
 ting on September 4th. Everyone is welcome, and no prior experience wi
 th mediation or Buddhism is necessary.\nThere is no cost to attend the
  September 4th introductory class.\n\nFor more information visit http:
 //phillytodo.com/events/buddhist-psychology-education-for-liberation
DTSTART:20180904T230000Z
DTEND:20180905T010000Z
CATEGORIES:class, meditation, buddhism
LOCATION:Kadampa Meditation Center Philadelphia
WEBSITE:http://www.meditationinphiladelphia.org/foundation-program/
URL:http://www.meditationinphiladelphia.org/foundation-program/
CONTACT:267-702-3817
ORGANIZER;CN="Education Program Coordinator":http://phillytodo.com/pro
 file/EducationProgramCoordinator
ATTACH;FMTTYPE="image/jpeg":http://storage.ning.com/topology/rest/1.0/
 file/get/3055015869?profile=original
ATTENDEE;ROLE=REQ-PARTICIPANT;PARTSTAT=ACCEPTED;RSVP=TRUE;CN="Educatio
 n Program Coordinator":http://phillytodo.com/profile/EducationProgramC
 oordinator
END:VEVENT
END:VCALENDAR
