BEGIN:VCALENDAR
PRODID:NingEventWidget-v1
VERSION:2.0
METHOD:PUBLISH
BEGIN:VEVENT
UID:4320450:Event:60006
DTSTAMP:20260425T155349Z
SUMMARY:Buddhist New Year’s Eve Party: A Peaceful, Light-hearted Cel
 ebration with Spiritual Friends in the City
DESCRIPTION:This evening will include an inspiring talk and a beautifu
 l Buddhist meditation on compassion from 7:00-8:00pm, and an after-par
 ty with desserts and playful raffle prizes. Start your year off right 
 with a big present to yourself!\nIn these difficult times, we often lo
 se sight of the beauty and potential of human life. On this evening, w
 e will rediscover and celebrate the amazing qualities that exist withi
 n us and come to identify with these qualities, letting go of a downca
 st and heavy heart.\nWe will invite all the compassionate, peaceful be
 ings in the universe to come and fill us with their positive energy. W
 e will then receive some of their kind advice on how to keep that posi
 tive energy going throughout the new year.\nLed by senior Buddhist mon
 k, Gen Tenzin.\n$10 suggested donation (from generosity comes wealth)\
 nEveryone is welcome, including children. \nWe will be lighting candl
 es for peace, so come and light your candle!\n\nFor more information v
 isit http://phillytodo.com/events/buddhist-new-year-s-eve-party-a-peac
 eful-light-hearted
DTSTART:20200101T000000Z
DTEND:20200101T010000Z
CATEGORIES:meditation, buddhism, mindfulness, wellness, buddhist, fami
 lies, nye
LOCATION:Kadampa Meditation Center Philadelphia
WEBSITE:https://www.meditationinphiladelphia.org/buddhist-new-years-ev
 e-party-dec-31/
URL:https://www.meditationinphiladelphia.org/buddhist-new-years-eve-pa
 rty-dec-31/
CONTACT:267-702-3817
ORGANIZER;CN="Education Program Coordinator":http://phillytodo.com/pro
 file/EducationProgramCoordinator
ATTACH;FMTTYPE="image/jpeg":https://storage.ning.com/topology/rest/1.0
 /file/get/3761040253?profile=original
ATTENDEE;ROLE=REQ-PARTICIPANT;PARTSTAT=ACCEPTED;RSVP=TRUE;CN="Educatio
 n Program Coordinator":http://phillytodo.com/profile/EducationProgramC
 oordinator
END:VEVENT
END:VCALENDAR
