BEGIN:VCALENDAR
PRODID:NingEventWidget-v1
VERSION:2.0
METHOD:PUBLISH
BEGIN:VEVENT
UID:4320450:Event:35179
DTSTAMP:20260425T124842Z
SUMMARY:Bubby's COOK-OFF
DESCRIPTION:Philly's best chefs competing for a cause. Experience a mo
 dern day twist on traditional Jewish recipes by local masters. You dec
 ide the winning chef, sample savory plates and vote for your favorite!
  Proceeds benefit The Friendship Circle Foundation and Lubavitch of Bu
 cks County.\n\nFor more information visit http://phillytodo.com/events
 /bubby-s-cook-off
DTSTART:20140226T223000Z
DTEND:20140227T013000Z
CATEGORIES:cook-off, fundraiser, social, scene
LOCATION:Vie
WEBSITE:http://www.bubbyscookoff.com
URL:http://www.bubbyscookoff.com
CONTACT:
ORGANIZER:Lubavitch of Bucks County
ATTACH;FMTTYPE="image/jpeg":http://storage.ning.com/topology/rest/1.0/
 file/get/3054972731?profile=original
ATTENDEE;ROLE=REQ-PARTICIPANT;PARTSTAT=ACCEPTED;RSVP=TRUE;CN="Michelle
  Conron":http://phillytodo.com/profile/MichelleConron
END:VEVENT
END:VCALENDAR
