BEGIN:VCALENDAR
PRODID:NingEventWidget-v1
VERSION:2.0
METHOD:PUBLISH
BEGIN:VEVENT
UID:4320450:Event:35543
DTSTAMP:20260425T160116Z
SUMMARY:Bubby's Cook Off
DESCRIPTION:Philly's best chefs competing for a cause. Experience a mo
 dern day twist on traditional Jewish recipes by local masters. You dec
 ide the winning chef, sample savory plates and vote for your favorite!
  Proceeds benefit The Friendship Circle Foundation and Lubavitch of Bu
 cks County. Prices start at $99 and up.\n\nFor more information visit 
 http://phillytodo.com/events/bubby-s-cook-off-1
DTSTART:20140226T223000Z
DTEND:20140227T013000Z
CATEGORIES:fundraiser
LOCATION:Vie
WEBSITE:http://www.bubbyscookoff.com
URL:http://www.bubbyscookoff.com
CONTACT:
ORGANIZER;CN=CashmanAssoc:http://phillytodo.com/profile/CashmanAssoc
ATTACH;FMTTYPE="image/jpeg":http://storage.ning.com/topology/rest/1.0/
 file/get/3054973554?profile=original
ATTENDEE;ROLE=REQ-PARTICIPANT;PARTSTAT=ACCEPTED;RSVP=TRUE;CN=CashmanAs
 soc:http://phillytodo.com/profile/CashmanAssoc
END:VEVENT
END:VCALENDAR
