BEGIN:VCALENDAR
PRODID:NingEventWidget-v1
VERSION:2.0
METHOD:PUBLISH
BEGIN:VEVENT
UID:4320450:Event:170682
DTSTAMP:20260425T111508Z
SUMMARY:Bryn Mawr College Performing Arts Series presents Yesterday To
 morrow by Annie Dorsen
DESCRIPTION:Bryn Mawr College Performing Arts Series will present the 
 first career retrospective of theater artist Annie Dorsen titled Algor
 ithmic Theater. The retrospective, supported by The Pew Center for Art
 s & Heritage, is part of a residency advancing Dorsen’s work and exa
 mining the consequences of digital communications through theater. In 
 Yesterday Tomorrow, three singers receive computer-generated music and
  lyrics both aurally and visually. The algorithmically-produced score 
 begins with the Beatles’ hit song “Yesterday” and slowly transfo
 rms into “Tomorrow” from the musical Annie. Inspired by an artific
 ial intelligence known as evolutionary computation, Yesterday Tomorrow
  gives a unique experience of the complexity and unpredictability of t
 he present tense contrasted with the known past and the imagined futur
 e. Each night, the spatial and musical path from the past to the futur
 e is different; neither the singers, creative team, nor the audience k
 nows the route the performance will take them. \nThe performance will
  take place in McPherson Auditorium in Goodhart Hall (150 N Merion Av
 e, Bryn Mawr, PA 19010). Tickets are $20 General Admission, $18 for s
 eniors (65+), $10 for students (not from the Tri-College Consortium), 
 $5 for children under five, and free for students from the Tri-College
  Consortium (Bryn Mawr College, Haverford, and Swarthmore). Tickets av
 ailable HERE\n\nFor more information visit http://phillytodo.com/even
 ts/bryn-mawr-college-performing-arts-series-presents-yesterday
DTSTART:20220916T000000Z
DTEND:20220916T020000Z
CATEGORIES:theater, performance, play
LOCATION:Goodhart Hall
WEBSITE:https://anniedorsen.digital.brynmawr.edu/
URL:https://anniedorsen.digital.brynmawr.edu/
CONTACT:610-526-5300
ORGANIZER;CN="En Route Marketing":http://phillytodo.com/profile/EnRout
 eMarketing
ATTACH;FMTTYPE="image/jpeg":https://storage.ning.com/topology/rest/1.0
 /file/get/10748443056?profile=original
ATTENDEE;ROLE=REQ-PARTICIPANT;PARTSTAT=ACCEPTED;RSVP=TRUE;CN="En Route
  Marketing":http://phillytodo.com/profile/EnRouteMarketing
END:VEVENT
END:VCALENDAR
