BEGIN:VCALENDAR
PRODID:NingEventWidget-v1
VERSION:2.0
METHOD:PUBLISH
BEGIN:VEVENT
UID:4320450:Event:170959
DTSTAMP:20260425T113121Z
SUMMARY:Bryn Mawr College Performing Arts Series presents Spokaoke by 
 Annie Dorsen
DESCRIPTION:This September,Â Bryn Mawr College Performing Arts SeriesÂ
  will present the first career retrospective of theater artistÂ Annie 
 DorsenÂ titledÂ Algorithmic Theater. The retrospective, supported by T
 he Pew Center for Arts & Heritage, is part of a residency advancing Do
 rsenâ€™s work and examining the consequences of digital communications
  through theater.\nSpokaoke is a participatory event that invites peop
 le to perform speeches as they would ordinarily perform songs in a kar
 aoke bar. Speeches are, after all, songs of persuasion, argument, cons
 olidation, or motivation. Over 90 speech videos are loaded into a kara
 oke system and arranged in a catalog for audience members to peruse. P
 articipants will read various forms of public addresses, including pol
 itical speeches, award acceptance speeches, press conferences, theatri
 cal monologues, eulogies, and trial testimony.\n\nFor more information
  visit http://phillytodo.com/events/bryn-mawr-college-performing-arts-
 series-presents-spokaoke-by
DTSTART:20220911T020000Z
DTEND:20220911T030000Z
CATEGORIES:theater, theatrical, performance
LOCATION:The Marie Salant Neuberger Centennial Campus Center
WEBSITE:https://anniedorsen.digital.brynmawr.edu/
URL:https://anniedorsen.digital.brynmawr.edu/
CONTACT:610-526-5300
ORGANIZER;CN="En Route Marketing":http://phillytodo.com/profile/EnRout
 eMarketing
ATTACH;FMTTYPE="image/jpeg":https://storage.ning.com/topology/rest/1.0
 /file/get/10756236693?profile=original
ATTENDEE;ROLE=REQ-PARTICIPANT;PARTSTAT=ACCEPTED;RSVP=TRUE;CN="En Route
  Marketing":http://phillytodo.com/profile/EnRouteMarketing
END:VEVENT
END:VCALENDAR
