BEGIN:VCALENDAR
PRODID:NingEventWidget-v1
VERSION:2.0
METHOD:PUBLISH
BEGIN:VEVENT
UID:4320450:Event:171428
DTSTAMP:20260425T111508Z
SUMMARY:Bryn Mawr College Performing Arts Series presents ‘Prometheu
 s (working title)’ by Annie Dorsen
DESCRIPTION: Bryn Mawr College Performing Arts Series presents the w
 orld premiere of ‘Prometheus (working title)’, a new lecture-discu
 ssion-performance by theater artist Annie Dorsen. Is artificial inte
 lligence a “gift from the gods” to advance human civilization — 
 or a fraught technology with as-yet unknown implications? In her lates
 t work, Dorsen examines the newly emerging tools of “generative arti
 ficial intelligence” through the lens of ancient mythology. \n \nU
 sing artificial intelligence, Dorsen recreates the lost third play of 
 the Prometheus trilogy, using the remaining texts as source material f
 or dialogues and songs created in real time through algorithmic prompt
 s. On stage, a chorus of AI-generated Greek masks “performs” while
  Dorsen engages the audience in storytelling and reflections on mythol
 ogy and technology. We’re asked to consider: What does it mean for
  a machine to create theater? \n \nMajor support for Algorithmic The
 ater has been provided to Bryn Mawr College by The Pew Center for Ar
 ts & Heritage. \n\nFor more information visit http://phillytodo.com/e
 vents/bryn-mawr-college-performing-arts-series-presents-prometheus
DTSTART:20230127T010000Z
DTEND:20230129T010000Z
CATEGORIES:performance, theater
LOCATION:Hepburn Teaching Theater at Goodhart Hall
WEBSITE:https://brynmawrarts.ticketleap.com/prometheus/
URL:https://brynmawrarts.ticketleap.com/prometheus/
CONTACT:610-526-5300
ORGANIZER;CN="En Route Marketing":http://phillytodo.com/profile/EnRout
 eMarketing
ATTACH;FMTTYPE="image/jpeg":https://storage.ning.com/topology/rest/1.0
 /file/get/10920047275?profile=original
ATTENDEE;ROLE=REQ-PARTICIPANT;PARTSTAT=ACCEPTED;RSVP=TRUE;CN="En Route
  Marketing":http://phillytodo.com/profile/EnRouteMarketing
END:VEVENT
END:VCALENDAR
