BEGIN:VCALENDAR
PRODID:NingEventWidget-v1
VERSION:2.0
METHOD:PUBLISH
BEGIN:VEVENT
UID:4320450:Event:170676
DTSTAMP:20260425T111604Z
SUMMARY:Bryn Mawr College Performing Arts Series presents A Piece of W
 ork by Annie Dorsen
DESCRIPTION:This September,Â Bryn Mawr College Performing Arts SeriesÂ
  will present the first career retrospective of theater artistÂ Annie 
 DorsenÂ titledÂ Algorithmic Theater. The retrospective, supported by T
 he Pew Center for Arts & Heritage, is part of a residency advancing Do
 rsenâ€™s work and examining the consequences of digital communications
  through theater.\nMixing live performance with algorithms and interfa
 ces, A Piece of Work flips the switch between man and machine in a dig
 ital version of Hamlet for a post-humanist age. The spectators are abs
 orbed in a swirl of connections amongst memory, language, and technolo
 gy, implicating both the past and future of theater itself. New scenes
 , songs, scores, and visuals emerge from an intricate and ingeniously 
 programmed web of technology that uses Shakespeareâ€™s original text a
 s data.\n\nFor more information visit http://phillytodo.com/events/bry
 n-mawr-college-performing-arts-series-presents-a-piece-of-work
DTSTART:20220910T000000Z
DTEND:20220910T011500Z
CATEGORIES:theatre, performance
LOCATION:McPherson Auditorium
WEBSITE:https://anniedorsen.digital.brynmawr.edu/
URL:https://anniedorsen.digital.brynmawr.edu/
CONTACT:610-526-5300
ORGANIZER;CN="En Route Marketing":http://phillytodo.com/profile/EnRout
 eMarketing
ATTACH;FMTTYPE="image/jpeg":https://storage.ning.com/topology/rest/1.0
 /file/get/10746057895?profile=original
ATTENDEE;ROLE=REQ-PARTICIPANT;PARTSTAT=ACCEPTED;RSVP=TRUE;CN="En Route
  Marketing":http://phillytodo.com/profile/EnRouteMarketing
END:VEVENT
END:VCALENDAR
