BEGIN:VCALENDAR
PRODID:NingEventWidget-v1
VERSION:2.0
METHOD:PUBLISH
BEGIN:VEVENT
UID:4320450:Event:35300
DTSTAMP:20260425T125024Z
SUMMARY:Brunch with Yards & the Mummers
DESCRIPTION:Devil's Den is open New Year's Day with a brunch featuring
 s Yards Brewing Co. The Mummers will be on site to add to the beer-fil
 led festivities in South Philly. Enjoy brunch specials from Chef de Cu
 isine Matthew Daggett and an extensive Yards draft list. \nSpecials i
 nclude, Pork Belly Benedict, Short Rib Hash, Brussel Sprouts Lyonnaise
 .\n\nFor more information visit http://phillytodo.com/events/brunch-wi
 th-yards-the-mummers
DTSTART:20140101T160000Z
DTEND:20140102T050000Z
CATEGORIES:new, "year's", day, brunch
LOCATION:Devil's Den
WEBSITE:http://www.devilsdenphilly.com
URL:http://www.devilsdenphilly.com
CONTACT:(215) 339-0855
ORGANIZER;CN="Punch Media":http://phillytodo.com/profile/PunchMedia
ATTACH;FMTTYPE="image/jpeg":http://storage.ning.com/topology/rest/1.0/
 file/get/3054970578?profile=original
ATTENDEE;ROLE=REQ-PARTICIPANT;PARTSTAT=ACCEPTED;RSVP=TRUE;CN="Punch Me
 dia":http://phillytodo.com/profile/PunchMedia
END:VEVENT
END:VCALENDAR
