BEGIN:VCALENDAR
PRODID:NingEventWidget-v1
VERSION:2.0
METHOD:PUBLISH
BEGIN:VEVENT
UID:4320450:Event:37244
DTSTAMP:20260425T204844Z
SUMMARY:Brunch Sessions: Four Seasons of Prix-Fixe
DESCRIPTION:Mt. Airy is throwing a weekend brunch party! Enjoy seasona
 lly inspired three course menus during Mt. Airy Brunch Sessions: Four 
 Seasons of Prix-Fixe. Chefs will present off-menu dishes and signature
  favorites that showcase the flavors of summer. Participating restaura
 nts include Earth Bread + Brewery, Cresheim Valley Grain Exchange, Gee
 chee Girl Rice Cafe, Goat Hollow, Cantina Avenida, Little Jimmie's Bak
 ery Cafe and Trolley Car Diner. Each prix-fixe meal is $16.00 per pers
 on and includes a starter, entrée, side, and choice of coffee or tea.
  For menus, reservation info, and dates for the fall and winter Brunch
  Sessions, visit www.gomtairy.com/events.  \n\nFor more information v
 isit http://phillytodo.com/events/brunch-sessions-four-seasons-of-prix
 -fixe
DTSTART:20140712T150000Z
DTEND:20140713T190000Z
CATEGORIES:brunch
LOCATION:Mt Airy
WEBSITE:http://gomtairy.com/events/mt.-airy-brunch-sessions.html
URL:http://gomtairy.com/events/mt.-airy-brunch-sessions.html
CONTACT:215-844-6021, ext. 224
ORGANIZER:Mt Airy, USA
ATTACH;FMTTYPE="image/jpeg":http://storage.ning.com/topology/rest/1.0/
 file/get/3054973144?profile=original
ATTENDEE;ROLE=REQ-PARTICIPANT;PARTSTAT=ACCEPTED;RSVP=TRUE;CN="Aversa P
 R & Events":http://phillytodo.com/profile/KoryAversa277
END:VEVENT
END:VCALENDAR
