BEGIN:VCALENDAR
PRODID:NingEventWidget-v1
VERSION:2.0
METHOD:PUBLISH
BEGIN:VEVENT
UID:4320450:Event:47198
DTSTAMP:20260425T125459Z
SUMMARY:BRU Fall Fest at Midtown Village Fall Festival
DESCRIPTION:BRU Fall Fest returns on Saturday, October 1, 2016, from 1
 2:00pm to 8:00pm, during Midtown Village Fall Festival. Head to the 13
 00 block of Chestnut Street for eight hours of food, beer and live tun
 es. U-Bahn’s stage will feature five bands and DJs, headlined by the
  Levee Drivers. Menu to include Bratwurst, BBQ pork, pretzels, skewers
  and more. Craft drafts pouring outside will include selections from T
 roegs, Wyndridge, Evolution and Rogue. Inside, look for 39 crafts pour
 ing and an abbreviated version of the regular daily menu. Skip the lin
 es in Midtown Village and hit the self-serve taps. Free admission, 21 
 to drink and food/drink pay-as-you-go. For more info, visit www.bruphi
 lly.com.\n\nFor more information visit http://phillytodo.com/events/br
 u-fall-fest-at-midtown-village-fall-festival
DTSTART:20161001T160000Z
DTEND:20161002T000000Z
CATEGORIES:fall, festival
LOCATION:BRU Craft & Wurst
WEBSITE:https://www.facebook.com/events/861687877265869/
URL:https://www.facebook.com/events/861687877265869/
CONTACT:215-800-1079
ORGANIZER;CN="Aversa PR & Events":http://phillytodo.com/profile/KoryAv
 ersa277
ATTACH;FMTTYPE="image/jpeg":http://storage.ning.com/topology/rest/1.0/
 file/get/3054998674?profile=original
ATTENDEE;ROLE=REQ-PARTICIPANT;PARTSTAT=ACCEPTED;RSVP=TRUE;CN="Aversa P
 R & Events":http://phillytodo.com/profile/KoryAversa277
END:VEVENT
END:VCALENDAR
