BEGIN:VCALENDAR
PRODID:NingEventWidget-v1
VERSION:2.0
METHOD:PUBLISH
BEGIN:VEVENT
UID:4320450:Event:39630
DTSTAMP:20260425T142910Z
SUMMARY:BRU Craft & Wurst Super Bowl Party and U-Bahn Preview
DESCRIPTION:Head to Midtown Village and catch the game at BRU Craft & 
 Wurst (1318 Chestnut St, Philadelphia) on their huge projection wall (
 with sound) along with $5.00 American craft drafts (16+ to pick from) 
 and game day food specials on Sunday, February 1, 2015 from 6:00pm to 
 11:00pm. Food specials will include $5.00 dips and sandwiches and an e
 xclusive a preview of the menu from the soon-to-open U-Bahn. For more 
 information, visit www.bruphilly.com, call (215) 800-1079 or follow @b
 ruphilly.\n \n\nFor more information visit http://phillytodo.com/even
 ts/bru-craft-wurst-super-bowl-party-and-u-bahn-preview
DTSTART:20150201T230000Z
DTEND:20150202T040000Z
CATEGORIES:super, bowl, party
LOCATION:Bru Craft & Wurst
WEBSITE:http://www.bruphilly.com
URL:http://www.bruphilly.com
CONTACT:(215) 800-1079
ORGANIZER;CN="Aversa PR & Events":http://phillytodo.com/profile/KoryAv
 ersa277
ATTACH;FMTTYPE="image/jpeg":http://storage.ning.com/topology/rest/1.0/
 file/get/3054985470?profile=original
ATTENDEE;ROLE=REQ-PARTICIPANT;PARTSTAT=ACCEPTED;RSVP=TRUE;CN="Aversa P
 R & Events":http://phillytodo.com/profile/KoryAversa277
END:VEVENT
END:VCALENDAR
