BEGIN:VCALENDAR
PRODID:NingEventWidget-v1
VERSION:2.0
METHOD:PUBLISH
BEGIN:VEVENT
UID:4320450:Event:36066
DTSTAMP:20260425T131037Z
SUMMARY:Broad Street Music Group presents: Sounds of Philly
DESCRIPTION:Family Vacation\nFamily Vacation is a rock band based out 
 of Temple University. Imagining Built to Spill mixed with         
           Vampire Weekend, their energetic live shows always ente
 rtain music critics and college kids alike.\nKeepersKeepers has a fu
 ll length up on bandcamp for free streaming and download They have bee
 n featured on WXPN's local hour a few times and played at venues aroun
 d town like World Cafe Live (upstairs and downstairs), Hard Rock Cafe,
  The Fire etc. They've also played at Arlene's Grocery in New York, an
 d have toured throughout the east coast with stops in Montreal, Boston
 , Providence and Long Island, among others.\nPatrick Donovan\nPatrick 
 is thrilled to returning back to World Cafe Live for the official rele
 ase show of his third EP. Patrick has performed all across Philadelphi
 a, often teaming up with other friends and musicians, though this solo
 -acoustic will showcase will feature not just the songs from his forth
 coming EP, but also a few others that you might recognize. For more in
 fo or music please visit youtube.com or follow @patrickldonovan for 
 updates. \n\nA Day Without LoveEmerging from their 2013 debut EP, Isl
 and, A Day Without Love recently released a new A/B side single in mi
 d- March. Confessions of the Innocent Mind is the product of a success
 ful Kickstarter campaign led by songwriter and frontman Brian Walker, 
 and features two songs (“Save”, “Exposed”) that redefine the b
 and’s urgent introspection. Walker, a previously acoustic act now su
 rrounded by a steady lineup of musicians, is quick to place heavy emph
 asis on the collaboration and co-writing that led to the final form of
  these songs\nThe Phosphenes80's-inspired indie/garage rock/punk/pop b
 and. Our tastes range from The Strokes to Weezer to The Cars and every
 thing in between!\n\n$8 pre-sale\n$12 at  the door\nAll ages!\n\nFor 
 more information visit http://phillytodo.com/events/broad-street-music
 -group-presents-sounds-of-philly
DTSTART:20140417T233000Z
DTEND:20140418T033000Z
CATEGORIES:concert
LOCATION:World Cafe Live
WEBSITE:http://philly.worldcafelive.com/
URL:http://philly.worldcafelive.com/
CONTACT:
ORGANIZER:Broad Street Music Group
ATTACH;FMTTYPE="image/jpeg":http://storage.ning.com/topology/rest/1.0/
 file/get/3054973584?profile=original
ATTENDEE;ROLE=REQ-PARTICIPANT;PARTSTAT=ACCEPTED;RSVP=TRUE;CN="Rachel B
 arrish":http://phillytodo.com/profile/RachelBarrish
END:VEVENT
END:VCALENDAR
