BEGIN:VCALENDAR
PRODID:NingEventWidget-v1
VERSION:2.0
METHOD:PUBLISH
BEGIN:VEVENT
UID:4320450:Event:36063
DTSTAMP:20260425T162828Z
SUMMARY:Broad Street Music Group presents: Black Stars
DESCRIPTION:Black Stars Recent winners of the Hard Rock Rising 2014 co
 mpetition and will be performing in Rome, Italy! Come see 'em before t
 hey ship out!  Ton-Taun Philly-based smooth alternative/indie rock The
  Strange Heat “A very talented quintet, The Strange Heat refuses to 
 be pigeonholed into a specific genre. Expanding, exploring and flexing
  their musical muscles is what they strive for as they create their mu
 sic. The group has a nice blend of established talented musicians and 
 new, young talented musicians, the future is very bright for this grou
 p.” -Your Local Note Brothers & Sisters blues/rock quintet. This sho
 w will feature a special acoustic performance from the band's vocalist
 s (and piano and rhythm guitar respectively) Hannah McCarthy and Molly
  Martin\n \nBuy tickets here: http://www.ticketfly.com/purchase/even
 t/519565?wrKey=67F59F40E86C0F6A46D739747DE1A423\n\n$8 presale\n$10 at 
 the door\n21+\n\nFor more information visit http://phillytodo.com/even
 ts/broad-street-music-group-presents-black-stars
DTSTART:20140411T000000Z
DTEND:20140411T040000Z
CATEGORIES:concert
LOCATION:Milkboy Philly
WEBSITE:http://www.milkboyphilly.com/
URL:http://www.milkboyphilly.com/
CONTACT:
ORGANIZER:Broad Street Music Group
ATTACH;FMTTYPE="image/jpeg":http://storage.ning.com/topology/rest/1.0/
 file/get/3054973312?profile=original
ATTENDEE;ROLE=REQ-PARTICIPANT;PARTSTAT=ACCEPTED;RSVP=TRUE;CN="Rachel B
 arrish":http://phillytodo.com/profile/RachelBarrish
END:VEVENT
END:VCALENDAR
