BEGIN:VCALENDAR
PRODID:NingEventWidget-v1
VERSION:2.0
METHOD:PUBLISH
BEGIN:VEVENT
UID:4320450:Event:36851
DTSTAMP:20260425T175720Z
SUMMARY:Broad Street Music Group Presents: Black Stars/Vita & The Wool
 f/Bueno & The Goods/The Valhallas
DESCRIPTION:Black Stars Black Stars has played the best rooms of Phila
 delphia, and they have also had the pleasure of sharing the stage with
  notable acts such as Bernie Worrell, The Stone Foxes, Nicos Gun, Swif
 t Technique, John The Conqueror, Bong Hits For Jesus, and many more. T
 hey're currently competing in the \"Hard Rock Rising\" competition to 
 travel and perform in Rome, Italy. This is an absolute must see band, 
 come see why. http://blckstrs.bandcamp.com/  Vita and the Woolf soul p
 op duo featuring Joey Anderson on drums and Jennifer Pague singing lea
 d vocals and keyboards/guitar. Pague, who composes all the songs, just
  returned from a 3 week tour of the south including a few crazy shows 
 at SXSW. The band name was inspired by the love relationship between n
 ovelists Vita Sack-ville West and Virginia Woolf. Vita and the Woolf's
  influences include Bat For Lashes, St. Vincent, Radiohead, and the Ta
 lking Heads. Their first record is due to be released this summer. htt
 ps://soundcloud.com/vitaandthewoolf  Bueno and The Goods Power trio th
 at wields bold, story-driven lyrics, harmony sections that fill the ro
 om, bursts of unrefined-garage-guitar, and eclectic percussion. Influe
 nced by Tom Waits, Neil Young, The Pixies, The Kills http://www.buenoa
 ndthegoods.com/  The Valhallas From blues rock to psychedelic rock, Th
 e Valhallas have refined their sound over the past year. Led by vocali
 st Ryan Beach, The Valhallas know what it means to groove and rock\n\n
 Tickets are $10 at the door 21+  Doors open at 8, music at 9  Drink gi
 veaways and prizes will be going on throughout the night!\n\nFor more 
 information visit http://phillytodo.com/events/broad-street-music-grou
 p-presents-black-stars-vita-the-woolf
DTSTART:20140530T000000Z
DTEND:20140530T040000Z
CATEGORIES:concert
LOCATION:Bourbon & Branch
WEBSITE:http://bourbonandbranchphilly.com/event/black-stars-vita-the-w
 oolf-bueno-the-goods-the-valhallas/
URL:http://bourbonandbranchphilly.com/event/black-stars-vita-the-woolf
 -bueno-the-goods-the-valhallas/
CONTACT:215-962-9901
ORGANIZER:Broad Street Music Group
ATTACH;FMTTYPE="image/jpeg":http://storage.ning.com/topology/rest/1.0/
 file/get/3054976034?profile=original
ATTENDEE;ROLE=REQ-PARTICIPANT;PARTSTAT=ACCEPTED;RSVP=TRUE;CN="Rachel B
 arrish":http://phillytodo.com/profile/RachelBarrish
END:VEVENT
END:VCALENDAR
