BEGIN:VCALENDAR
PRODID:NingEventWidget-v1
VERSION:2.0
METHOD:PUBLISH
BEGIN:VEVENT
UID:4320450:Event:40632
DTSTAMP:20260425T161658Z
SUMMARY:Bring in the Old. Take Home the New. Bernie Robbins’ Fine Je
 welry Buying & Selling Event.
DESCRIPTION:Bernie Robbins Jewelers is hosting a Fine Jewelry Buying E
 vent, in association with WP Diamonds, in three of its four PA and NJ 
 store locations from April 13 through April 18. \nBring outdated, unw
 orn, and even broken jewelry to Bernie Robbins to immediately receive 
 an offer from a WP Diamonds expert, then trade in jewelry for a check 
 or Bernie Robbins store credit equivalent to 120% of the WP Diamonds q
 uote to use toward new jewelry and timepieces. For example, if WP Diam
 onds offers a quote of $1,000, Bernie Robbins will provide a $1,200 gi
 ft certificate. Appointments strongly recommended, but are not require
 d.\nBernie Robbins’ is the perfect excuse for a “spring cleaning
  of your jewelry box, adding new, trendy pieces to “freshen” up y
 our look.    \n\nBERNIE ROBBINS JEWELERS  \nTHE PROMENADE AT SAGEM
 ORE\n500 Route 73 South, Marlton, NJ 08053 APRIL 13: 10:00am – 7:00p
 m APRIL 14: 10:00am – 7:00pm  THE RADNOR HOTEL \n595 East Lancaster
  Ave, St. Davids, PA 19087  APRIL 15: 10:00am - 6:30pm APRIL 16: 10:00
 am - 5:00pm  VILLAGE AT NEWTOWN SOUTH \n2123 South Eagle Road, Newtow
 n, PA 18940  APRIL 17: 10:30am – 7:30pm\nAPRIL 18: 10:30am – 5:00p
 m\n\nFor more information visit http://phillytodo.com/events/bring-in-
 the-old-take-home-the-new-bernie-robbins-fine-jewelry
DTSTART:20150413T140000Z
DTEND:20150418T230000Z
CATEGORIES:jewelry, buying, and, selling, event
LOCATION:Various Locations
WEBSITE:
URL:
CONTACT:
ORGANIZER:Bernie Robbins
ATTACH;FMTTYPE="image/jpeg":http://storage.ning.com/topology/rest/1.0/
 file/get/3054987872?profile=original
ATTENDEE;ROLE=REQ-PARTICIPANT;PARTSTAT=ACCEPTED;RSVP=TRUE;CN=CashmanAs
 soc:http://phillytodo.com/profile/CashmanAssoc
END:VEVENT
END:VCALENDAR
