BEGIN:VCALENDAR
PRODID:NingEventWidget-v1
VERSION:2.0
METHOD:PUBLISH
BEGIN:VEVENT
UID:4320450:Event:45108
DTSTAMP:20260425T142713Z
SUMMARY:Bridging Creative Design and Entrepreneurial Success: Nineteen
 th Amendment
DESCRIPTION:Moderated by Philadelphia Inquirer fashion columnist, Eliz
 abeth Wellington, Nineteenth Amendment owners will speak about the ind
 ustry, their business model and the services they offer. Q&A session w
 ill follow along with an opportunity for interested attendees to show 
 their samples for critique and review.\n\nFor more information visit h
 ttp://phillytodo.com/events/bridging-creative-design-and-entrepreneuri
 al-success-nineteenth
DTSTART:20160128T230000Z
DTEND:20160129T010000Z
CATEGORIES:"q&a", session
LOCATION:Drexel University, URBN Annex Screening Room
WEBSITE:https://www.eventbrite.com/e/bridging-creative-design-and-entr
 epreneurial-success-nineteenth-amendment-tickets-20126666401
URL:https://www.eventbrite.com/e/bridging-creative-design-and-entrepre
 neurial-success-nineteenth-amendment-tickets-20126666401
CONTACT:215-627-1060
ORGANIZER:Drexel University
ATTACH;FMTTYPE="image/jpeg":http://storage.ning.com/topology/rest/1.0/
 file/get/3054991121?profile=original
ATTENDEE;ROLE=REQ-PARTICIPANT;PARTSTAT=ACCEPTED;RSVP=TRUE;CN=CashmanAs
 soc:http://phillytodo.com/profile/CashmanAssoc
END:VEVENT
END:VCALENDAR
