BEGIN:VCALENDAR
PRODID:NingEventWidget-v1
VERSION:2.0
METHOD:PUBLISH
BEGIN:VEVENT
UID:4320450:Event:170746
DTSTAMP:20260425T114226Z
SUMMARY:Brian Sanders’ JUNK Presents: Luster
DESCRIPTION:Brian Sanders’ JUNK presents its newest interactive, dan
 ce-theater show experience, Luster! Follow the drama-filled thrills of
  the cast and crew of the brazen reality show, TRAGIC. The plotline be
 gins after Season One, which featured off-the-wall ideas with a cast o
 f circus performers who competed in front of a crowd on equipment and 
 apparatuses they had never used before. This year, producers and spons
 ors want something sexy and erotic, gritty but graceful. Set in an und
 erground shopping mall turned nightclub, TRAGIC premieres its second s
 eason on an internet streaming platform—where every click counts. Em
 otions will run high as five teams battle it out to compete for a top-
 secret first-place prize, amidst efforts to drive high ratings with pr
 ovocative and daring performances. The performers push their boundarie
 s mentally and physically, and the twisted nature of reality show comp
 etition begs the question, “Where do we draw the line?”.\nAs part 
 of this year’s Fringe Festival, Luster runs from September 8 to 17 a
 t the Concourse Dance Bar located at 1635 Market Street (back entrance
 ). Standard, Luxe, and socially distanced pairs of Luxe tickets may be
  purchased here.\n\nFor more information visit http://phillytodo.com/e
 vents/brian-sanders-junk-presents-luster
DTSTART:20220908T223000Z
DTEND:20220918T010000Z
CATEGORIES:dance, theater, performance, art
LOCATION:Concourse Dance Bar
WEBSITE:https://www.briansandersjunk.com/next-up/luster
URL:https://www.briansandersjunk.com/next-up/luster
CONTACT:267-406-6080
ORGANIZER;CN="En Route Marketing":http://phillytodo.com/profile/EnRout
 eMarketing
ATTACH;FMTTYPE="image/jpeg":https://storage.ning.com/topology/rest/1.0
 /file/get/10741163871?profile=original
ATTENDEE;ROLE=REQ-PARTICIPANT;PARTSTAT=ACCEPTED;RSVP=TRUE;CN="En Route
  Marketing":http://phillytodo.com/profile/EnRouteMarketing
END:VEVENT
END:VCALENDAR
