BEGIN:VCALENDAR
PRODID:NingEventWidget-v1
VERSION:2.0
METHOD:PUBLISH
BEGIN:VEVENT
UID:4320450:Event:168822
DTSTAMP:20260425T112754Z
SUMMARY:Brian Sanders’ JUNK Presents Dragonbutter
DESCRIPTION:Join Philadelphia-based Brian Sanders’ JUNK to experienc
 e Dragonbutter, a thrilling and immersive performance that puts you de
 ep inside a sci-fi adventure. Each performance, limited to 20 people, 
 will lead guests to explore a multitude of experimental themed rooms w
 here you will need to tackle riddles, hidden doors, and creative chall
 enges, all leading up to the grand finale, where you will come face-to
 -face with the “Boss.” Be a part of this multi-sensory experience 
 this fall! Limited dates and capacity; advance purchase strongly sugge
 sted. \n\nFor more information visit http://phillytodo.com/events/bri
 an-sanders-junk-presents-dragonbutter
DTSTART:20210902T230000Z
DTEND:20210903T000000Z
CATEGORIES:play
LOCATION:200 Spring Garden Street
WEBSITE:https://www.briansandersjunk.com/dragonbutter
URL:https://www.briansandersjunk.com/dragonbutter
CONTACT:267-406-6080
ORGANIZER:Brian Sanders' JUNK
ATTACH;FMTTYPE="image/jpeg":https://storage.ning.com/topology/rest/1.0
 /file/get/9466358695?profile=original
ATTENDEE;ROLE=REQ-PARTICIPANT;PARTSTAT=ACCEPTED;RSVP=TRUE;CN="Bryan Ch
 an":http://phillytodo.com/profile/BryanChan
END:VEVENT
END:VCALENDAR
