BEGIN:VCALENDAR
PRODID:NingEventWidget-v1
VERSION:2.0
METHOD:PUBLISH
BEGIN:VEVENT
UID:4320450:Event:23544
DTSTAMP:20260425T161826Z
SUMMARY:Brian Carpenter's Ghost Train Orchestra with Perseverance Jazz
  Band
DESCRIPTION:Brian Carpenter's Ghost Train Orchestra\n\nlinks\n\n\nComp
 oser/trumpeter/songwriter/producer Brian Carpenter was the founder and
  lead singer of the acclaimed American Gothic band Beat Circus. He has
  collaborated with Larkin Grimm, Martin Bisi, Marc Ribot, and most rec
 ently, Michael Gira on the new Swans record My Father Will Guide Me Up
  a Rope to the Sky. Carpenter formed the 10-piece Ghost Train Orchest
 ra in NYC after being hired as musical director for the 90th anniversa
 ry of the Regent Theater. This year the band released their debut albu
 m Hothouse Stomp, a loving tip of the cap to some of the unsung greats
  of Harlem and Chicago's South Side. Featuring Dennis Lichtman (King W
 ilkie), Petr Cancura (Joe Morris), Matt Bauder (Exploding Star Orchest
 ra), Mazz Swift (Burnt Sugar), Curtis Hasselbring (Golem), Ron Caswell
  (Slavic Soul Party), Rob Garcia (Woody Allen Band).\"On Hothouse Stom
 p, Carpenter and his little big band don't just recreate musical museu
 m pieces; they breathe fire and life into this amazing music. The only
  thing better hearing this recording would be seeing the band live\" -
 - Frank Alkyer, Downbeat\nPerseverance Jazz Band\n\nlinks\n\n\nPerseve
 rance Jazz Band plays the raucous and visceral music of New Orleans; f
 rom Blues, Dixieland, Mardi Gras, and Prohibition Jazz to high-energy 
 Swing.Jonathan Davenport started the group as a project to revive inte
 rest in the hot and highly danceable jazz that was born in diverse 191
 0's New Orleans musical culture. Bringing several great musical person
 alities from the Philadelphia area together, Perseverance Jazz Band's 
 energetic and heartfelt interpretations of traditional repertoire has 
 been a hit with audiences from Cape May to Luray.\n\n\nFor more inform
 ation visit http://phillytodo.com/events/brian-carpenter-s-ghost-train
 -orchestra-with-perseverance-jazz-ba
DTSTART:20120114T010000Z
DTEND:20120114T044500Z
CATEGORIES:concert
LOCATION:Johnny Brendas
WEBSITE:
URL:
CONTACT:
ORGANIZER;CN="alban bailly":http://phillytodo.com/profile/albanbailly
ATTACH;FMTTYPE="image/jpeg":http://storage.ning.com/topology/rest/1.0/
 file/get/3054958297?profile=original
ATTENDEE;ROLE=REQ-PARTICIPANT;PARTSTAT=ACCEPTED;RSVP=TRUE;CN="alban ba
 illy":http://phillytodo.com/profile/albanbailly
END:VEVENT
END:VCALENDAR
