BEGIN:VCALENDAR
PRODID:NingEventWidget-v1
VERSION:2.0
METHOD:PUBLISH
BEGIN:VEVENT
UID:4320450:Event:59212
DTSTAMP:20260425T125004Z
SUMMARY:Brews and Broomsticks Pub Crawl
DESCRIPTION:Discover the mischief and ghosts of wizards past on the Br
 ews & Broomsticks Pub Crawl in Philadelphia’s historic Chestnut Hill
  neighborhood. Dress up in your favorite Halloween costume and creep i
 nto participating pubs and restaurants for exclusive specials on theme
 d beverages and bites. Your pub crawl wristband includes one complimen
 tary alcoholic beverage, an official Witches & Wizards souvenir cup an
 d t-shirt, and a Pub Crawl activity ticket redeemable for designated e
 xperiences listed below (*).\n\nFor more information visit http://phil
 lytodo.com/events/brews-and-broomsticks-pub-crawl
DTSTART:20191018T233000Z
DTEND:20191019T023000Z
CATEGORIES:pub, crawl
LOCATION:Germantown Avenue
WEBSITE:
URL:
CONTACT:from 8000 to 8700 Germantown Avenue
ORGANIZER:
ATTACH;FMTTYPE="image/jpeg":https://storage.ning.com/topology/rest/1.0
 /file/get/3559480435?profile=original
ATTENDEE;ROLE=REQ-PARTICIPANT;PARTSTAT=ACCEPTED;RSVP=TRUE;CN="Bryan Ch
 an":http://phillytodo.com/profile/BryanChan
END:VEVENT
END:VCALENDAR
