BEGIN:VCALENDAR
PRODID:NingEventWidget-v1
VERSION:2.0
METHOD:PUBLISH
BEGIN:VEVENT
UID:4320450:Event:1538
DTSTAMP:20260425T144254Z
SUMMARY:BREATHE*  & Come Together
DESCRIPTION:Start Time:\nSaturday, June 26, 2010 at 9:00pm\nEnd Time:\
 nSunday, June 27, 2010 at 3:30am\nLocation:\nTHE ARTS GARAGE\nStreet:\
 n1533 Ridge Ave, 19130\n\nA SPECIAL EVENT, Come Together & BREATHE*\n\
 nIt is that time again....it is time to Come Together and let the musi
 c unite us. Back in April, over 205 of our friends came to Sumo for th
 e the Proper Drumsong Experience with Thomas Fultron, Sean Thomas and 
 the Wamdue Experience.\n\nThis time we have teamed up with Breathe* an
 d their resident DJs to give you an amazing line up of DJs and give- a
 lways.\n\nAnd for the FIRST TIME EVER IN PHILLY................\n\nDUC
 E MARTINEZ\n\nChris Udoh\nDance.Philly with JNH & LUVITT\nResidents: G
 lenn Thornton & Venus7\n\nFor more information visit http://phillytodo
 .com/events/breathe-come-together
DTSTART:20100627T010000Z
DTEND:20100627T073000Z
CATEGORIES:party, "(", music, "&", "dance)"
LOCATION:THE ARTS GARAGE
WEBSITE:http://breathehousemusicforlife.blogspot.com
URL:http://breathehousemusicforlife.blogspot.com
CONTACT:
ORGANIZER:Breathe* house  music for life
ATTACH;FMTTYPE="image/jpeg":http://storage.ning.com/topology/rest/1.0/
 file/get/2990822709?profile=original
ATTENDEE;ROLE=REQ-PARTICIPANT;PARTSTAT=ACCEPTED;RSVP=TRUE;CN="Glenn Th
 ornton":http://phillytodo.com/profile/GlennThornton
ATTENDEE;ROLE=REQ-PARTICIPANT;PARTSTAT=ACCEPTED;RSVP=TRUE;CN="Breathe 
 Deeper":http://phillytodo.com/profile/BreatheDeeper
END:VEVENT
END:VCALENDAR
