BEGIN:VCALENDAR
PRODID:NingEventWidget-v1
VERSION:2.0
METHOD:PUBLISH
BEGIN:VEVENT
UID:4320450:Event:1554
DTSTAMP:20260425T144300Z
SUMMARY:BREATHE*
DESCRIPTION:We do this party to play music that creates a feeling of j
 oy & release. A place to feel soul, to be your soulful self.\n\nWe lik
 e the venue, The Arts Garage, because it is a \"black box\" where we c
 an make that kind of party happen. It is the home for Breathe* and as 
 resident DJs, it is OUR HOUSE that we welcome you into on the 2nd and 
 4th Saturday. Please come and stay awhile so we can make you feel comf
 ortable.\n\n\n\nFor more information visit http://phillytodo.com/event
 s/breathe-1
DTSTART:20100523T020000Z
DTEND:20100523T070000Z
CATEGORIES:bi-weekly, club, party
LOCATION:The Arts Garage
WEBSITE:http://maps.google.com/maps/ms?ie=UTF8&msa=0&msid=105896697783
 323300669.0004870609a1e9d382c9a&ll=39.971266,-75.162535&spn=0.016214,0
 .041585&z=15
URL:http://maps.google.com/maps/ms?ie=UTF8&msa=0&msid=1058966977833233
 00669.0004870609a1e9d382c9a&ll=39.971266,-75.162535&spn=0.016214,0.041
 585&z=15
CONTACT:609-702-8017
ORGANIZER;CN="Breathe Deeper":http://phillytodo.com/profile/BreatheDee
 per
ATTACH;FMTTYPE="image/jpeg":
ATTENDEE;ROLE=REQ-PARTICIPANT;PARTSTAT=ACCEPTED;RSVP=TRUE;CN="Breathe 
 Deeper":http://phillytodo.com/profile/BreatheDeeper
END:VEVENT
END:VCALENDAR
