BEGIN:VCALENDAR
PRODID:NingEventWidget-v1
VERSION:2.0
METHOD:PUBLISH
BEGIN:VEVENT
UID:4320450:Event:58515
DTSTAMP:20260425T163309Z
SUMMARY:Breaking Free of Limitations: Discovering the Power of the Bud
 dhist Way of Life
DESCRIPTION:Instead of feeling trapped in a life we don’t enjoy, we 
 can learn how to embrace the life we have now as an opportunity to gro
 w stronger and more confident. Just as we use the gym to grow strong, 
 we can use daily difficulties to develop our inner strength. It is onl
 y through facing our own life with courage that we will find a feeling
  of true success and freedom that we were meant for.\nMore specificall
 y, we will focus on the meaning of being a modern Buddhist. Being a Bu
 ddhist allows us to find peace right now and create lasting peace for 
 the future. During this course, we will have the opportunity to deepen
  our spiritual practice and become an actual Buddhist.\nTo do this we 
 can engage in the optional traditional Mahayana Buddhist Refuge Vow Ce
 remony. Taking this vow means we have decided to rely upon Buddhism th
 roughout our life to solve our human problems and become the best pers
 on we can be.\nTaught by Resident Teacher, Gen Tenzin.\nEveryone is we
 lcome.\n$40\nSchedule:\n10:30am – 12:00pm: Teaching 2:00 – 3:15pm:
  Teaching & Meditation 3:30 – 4:00pm: Refuge Vow Ceremony (optional)
 \n\nFor more information visit http://phillytodo.com/events/breaking-f
 ree-of-limitations-discovering-the-power-of-the
DTSTART:20190615T143000Z
DTEND:20190615T200000Z
CATEGORIES:meditation, buddhism, mindfulness, wellness, buddhist
LOCATION:Kadampa Meditation Center Philadelphia
WEBSITE:http://www.meditationinphiladelphia.org/breaking-free-of-limit
 ations-discovering-the-power-of-the-buddhist-way-of-life-june-15th/
URL:http://www.meditationinphiladelphia.org/breaking-free-of-limitatio
 ns-discovering-the-power-of-the-buddhist-way-of-life-june-15th/
CONTACT:267-702-3817
ORGANIZER;CN="Education Program Coordinator":http://phillytodo.com/pro
 file/EducationProgramCoordinator
ATTACH;FMTTYPE="image/jpeg":https://storage.ning.com/topology/rest/1.0
 /file/get/2855195532?profile=original
ATTENDEE;ROLE=REQ-PARTICIPANT;PARTSTAT=ACCEPTED;RSVP=TRUE;CN="Educatio
 n Program Coordinator":http://phillytodo.com/profile/EducationProgramC
 oordinator
END:VEVENT
END:VCALENDAR
