BEGIN:VCALENDAR
PRODID:NingEventWidget-v1
VERSION:2.0
METHOD:PUBLISH
BEGIN:VEVENT
UID:4320450:Event:53805
DTSTAMP:20260425T144251Z
SUMMARY:Breakfast With Santa
DESCRIPTION:This holiday season bring your little rockers to Hard Rock
  for a memorable breakfast with Santa. This event will include a buffe
 t style breakfast, holiday themed animated movies, and an official pic
 ture taken with Santa. Children will gather around a Christmas tree wh
 ere Santa will read ‘Twas the Night before Christmas, and each child
  will receive a goodie bag to take home. Hard Rock will also be accept
 ing donations to help benefit The Attic Youth Center. Dates include: D
 ecember 9, 10, 16 and 17\n\nFor more information visit http://phillyto
 do.com/events/breakfast-with-santa-1
DTSTART:20171209T133000Z
DTEND:20171209T153000Z
CATEGORIES:holiday
LOCATION:Hard Rock Cafe Philadelphia
WEBSITE:https://www.hrcphillymusic.com/
URL:https://www.hrcphillymusic.com/
CONTACT:
ORGANIZER:Hard Rock Cafe Philadelphia
ATTACH;FMTTYPE="image/jpeg":
ATTENDEE;ROLE=REQ-PARTICIPANT;PARTSTAT=ACCEPTED;RSVP=TRUE;CN=CashmanAs
 soc:http://phillytodo.com/profile/CashmanAssoc
END:VEVENT
END:VCALENDAR
