BEGIN:VCALENDAR
PRODID:NingEventWidget-v1
VERSION:2.0
METHOD:PUBLISH
BEGIN:VEVENT
UID:4320450:Event:18404
DTSTAMP:20260425T160803Z
SUMMARY:Breakfast Bytes
DESCRIPTION:In today's always connected world it's easy to lose sight 
 of our business goals... The Breakfast Bytes networking series feature
 s successful business leaders who share their ì5 things in business t
 hat have attributed to my successî with you. Breakfast Bytes is the r
 egion's leading morning networking series. That connects like-minded b
 usiness professionals and kick starts you into action with a \"byte\" 
 of business advice you can use today! October Featured SpeakerNigel R
 ichardsNigel Richards On Tuesday  October 4th  meet Nigel Richards, 
 Philadelphia Real Estate Professional with Coldwell Banker Preferred, 
 Founder of 611 Records, 611 Lifestyle and world renowned DJ.Nigel will
  share 5 things that have made a significant impact on his business su
 ccess. Then he will provide you with one thing you can do today that w
 ill bring you closer to your business goals.Set your goal now!  Who d
 o you need to meet or what do you need to learn at this event that can
  help you? Who can you help?We give you breakfast, and a \"byte\" of b
 usiness advice that you can use today.Agenda:    8:00 am -9 :00 am 
 Breakfast and Business Networking    9:00 am-9:15 am Introduction a
 nd Sponsor Message    9:15-9: 40 am Program This monthís Featured 
 Speaker Nigel Richards    9:40-10:00 AM  Make your connections and
  kick start your week!About Pyramid ClubPyramid Club is a private busi
 ness club strategically placed 52 floors high at the \"top of the town
 ,\" above Center City in Philadelphia. The Club specializes in outstan
 ding cuisine, personalized service, superb meeting and dining faciliti
 es,  and state-of-the-art technology.\n\nFor more information visit h
 ttp://phillytodo.com/events/breakfast-bytes-1
DTSTART:20111004T120000Z
DTEND:20111004T140000Z
CATEGORIES:"business/networking"
LOCATION:Pyramid Club
WEBSITE:http://www.upcomingevents.com/secure/tickets/buy/8498/ptodo/
URL:http://www.upcomingevents.com/secure/tickets/buy/8498/ptodo/
CONTACT:8568164644
ORGANIZER;CN="UpcomingEvents.com":http://phillytodo.com/profile/Upcomi
 ngEventscom
ATTACH;FMTTYPE="image/jpeg":
ATTENDEE;ROLE=REQ-PARTICIPANT;PARTSTAT=ACCEPTED;RSVP=TRUE;CN="Upcoming
 Events.com":http://phillytodo.com/profile/UpcomingEventscom
END:VEVENT
END:VCALENDAR
