BEGIN:VCALENDAR
PRODID:NingEventWidget-v1
VERSION:2.0
METHOD:PUBLISH
BEGIN:VEVENT
UID:4320450:Event:36386
DTSTAMP:20260425T125852Z
SUMMARY:Brazilian Day Philadelphia
DESCRIPTION:Brazilian Day Philadelphia will celebrate Brazilian Indepe
 ndence Day and share the wonderful culture and traditions of Brazil. V
 endors will offer an abundant variety of authentic traditional foods a
 nd merchandise, and performers will light up the stage with the contag
 ious rhythms and dances of Brazil. The festival will feature a unique 
 blend of Brazilian Culture and will showcase Samba, Forro, Pagode, Cap
 oeira, Samba-Reggae and more.\n\nFor more information visit http://phi
 llytodo.com/events/brazilian-day-philadelphia
DTSTART:20140921T170000Z
DTEND:20140921T230000Z
CATEGORIES:festival, waterfront
LOCATION:Great Plaza at Penn's Landing
WEBSITE:http://www.delawareriverwaterfront.com/events/brazilian-day-ph
 iladelphia
URL:http://www.delawareriverwaterfront.com/events/brazilian-day-philad
 elphia
CONTACT:215-922-2386
ORGANIZER;CN="Delaware River Waterfront Corp.":http://phillytodo.com/p
 rofile/DelawareRiverWaterfrontCorp
ATTACH;FMTTYPE="image/jpeg":http://storage.ning.com/topology/rest/1.0/
 file/get/3054974352?profile=original
ATTENDEE;ROLE=REQ-PARTICIPANT;PARTSTAT=ACCEPTED;RSVP=TRUE;CN="Delaware
  River Waterfront Corp.":http://phillytodo.com/profile/DelawareRiverWa
 terfrontCorp
END:VEVENT
END:VCALENDAR
