BEGIN:VCALENDAR
PRODID:NingEventWidget-v1
VERSION:2.0
METHOD:PUBLISH
BEGIN:VEVENT
UID:4320450:Event:23622
DTSTAMP:20260425T143453Z
SUMMARY:Bravissimo Burlesque turns 2 years old!
DESCRIPTION:Philadelphia Burlesque stars Lil' Steph and Miss Rose are 
 proud to invite friends, fans, and fellow performers alike to celebrat
 e BRAVISSIMO BURLESQUE'S 2 YEAR ANNIVERSARY!!!Join that criminally cut
 e coquette, LIL' STEPH, and that flower you'd love to pluck, MISS ROSE
 , as they provide for your viewing pleasure...The hosting prowess of t
 hat sweet piece of genderfuck royalty, THE NOTORIOUS OMG!The saccharin
 e sweet moves and cloying curves of SOPHIE SUCRE!The innovative insani
 ty and boisterous beauty of Swellco Bride LOUISE LA TEASE! Don't miss 
 this momentous occasion! BRAVISSIMO BURLESQUE only TURNS 2 once, and w
 e want to celebrate with you! Just ten dollars at the door gets you in
 to a land of burlesque babes, funky fortune tellers, pretty puppeteers
 , and a whole lot of fun. Doors @ 9:30, Show @ 11:00\n\nFor more infor
 mation visit http://phillytodo.com/events/bravissimo-burlesque-turns-2
 -years-old
DTSTART:20120129T030000Z
DTEND:20120129T060000Z
CATEGORIES:burlesque, extravaganza
LOCATION:WineO
WEBSITE:http://www.facebook.com/bravissimoburlesque
URL:http://www.facebook.com/bravissimoburlesque
CONTACT:N/A
ORGANIZER;CN="Lil' Steph":http://phillytodo.com/profile/LilSteph
ATTACH;FMTTYPE="image/jpeg":http://storage.ning.com/topology/rest/1.0/
 file/get/3054958062?profile=original
ATTENDEE;ROLE=REQ-PARTICIPANT;PARTSTAT=ACCEPTED;RSVP=TRUE;CN="Lil' Ste
 ph":http://phillytodo.com/profile/LilSteph
END:VEVENT
END:VCALENDAR
