BEGIN:VCALENDAR
PRODID:NingEventWidget-v1
VERSION:2.0
METHOD:PUBLISH
BEGIN:VEVENT
UID:4320450:Event:41668
DTSTAMP:20260425T113245Z
SUMMARY:BRAT Productions Presents The Lid (2015 Fringe Festival)
DESCRIPTION:BRAT Productions kicks off their 20th season with the worl
 d premiere of The Lid during the 2015 Fringe Festival on September 4-6
 , 2015 at Underground Arts (1200 Callowhill St). This theatrical rock 
 opera, written by emerging Philadelphia singer songwriter Pat Finnerty
 , features 14 originally penned British invasion songs. The Lid tells 
 the story of Lee, a man who lives a “no fun” life trudging back an
 d forth between his simple boring house and his simple boring job. Lee
 ’s world is “all fish and no chips,” until one day he discovers 
 a lid in a meadow. What’s underneath that lid, a chance to break the
  drudgery and finally have fun or just more of the same old same old? 
 Tickets are on sale now for $20 (or $15 for students and under 25) at 
 www.fringearts.com.\n\nFor more information visit http://phillytodo.co
 m/events/brat-productions-presents-the-lid-2015-fringe-festival
DTSTART:20150905T010000Z
DTEND:20150907T020000Z
CATEGORIES:theatre
LOCATION:Underground Arts
WEBSITE:https://www.bratproductions.org
URL:https://www.bratproductions.org
CONTACT:609-870-6136
ORGANIZER:
ATTACH;FMTTYPE="image/jpeg":http://storage.ning.com/topology/rest/1.0/
 file/get/3054990974?profile=original
ATTENDEE;ROLE=REQ-PARTICIPANT;PARTSTAT=ACCEPTED;RSVP=TRUE;CN="Aversa P
 R & Events":http://phillytodo.com/profile/KoryAversa277
END:VEVENT
END:VCALENDAR
