BEGIN:VCALENDAR
PRODID:NingEventWidget-v1
VERSION:2.0
METHOD:PUBLISH
BEGIN:VEVENT
UID:4320450:Event:35988
DTSTAMP:20260425T125921Z
SUMMARY:BRAT AID: Hail to the Thief
DESCRIPTION:Brat Aid is a whirlwind night of theater, rock, dance and 
 drinks – all in the name of raising funds for Brat Productions! Take
  a trip to the intersection of rock‘n’roll, theater and dance as O
 n A Sunday performs Radiohead's Hail to the Thief album in its entiret
 y, with a special collaboration by new theater/dance company Birds on 
 a Wire. General admission is $15. Show is ages 21 and up. Tickets on s
 ale now at www.bratproductions.org.\n\nFor more information visit http
 ://phillytodo.com/events/brat-aid-hail-to-the-thief
DTSTART:20140406T233000Z
DTEND:20140407T020000Z
CATEGORIES:benefit
LOCATION:Underground Arts
WEBSITE:http://www.bratproductions.org
URL:http://www.bratproductions.org
CONTACT:
ORGANIZER:Brat Productions
ATTACH;FMTTYPE="image/jpeg":http://storage.ning.com/topology/rest/1.0/
 file/get/3054973458?profile=original
ATTENDEE;ROLE=REQ-PARTICIPANT;PARTSTAT=ACCEPTED;RSVP=TRUE;CN="Aversa P
 R & Events":http://phillytodo.com/profile/KoryAversa277
END:VEVENT
END:VCALENDAR
