BEGIN:VCALENDAR
PRODID:NingEventWidget-v1
VERSION:2.0
METHOD:PUBLISH
BEGIN:VEVENT
UID:4320450:Event:26543
DTSTAMP:20260425T143127Z
SUMMARY:Brandywine Polo - Opening Day Picnic & BBQ Pig Roast
DESCRIPTION:Stay local this Memorial Day! To celebrate the season open
 ing match at the Brandywine Polo Club, we're hosting an old fashioned 
 BBQ picnic pig roast in honor of Brandywine Area Youth Polo and craft 
 beer tasting with our friends from Carolina Pit Stop. We'll be serving
  complimentary bbq, a sampling of local craft beers, watching polo und
 er the VIP pavilion, and listening to live music by the Mini Q's - one
  of the best funk/jazz bands in Philadelphia.\n \nEnjoy the live polo
  action fieldside at one America's oldest polo clubs that features pla
 yers from over 5 different countries... Join us for this exclusive VIP
  package including VIP access, food and live entertainment, and beer s
 ampling!\n\nFor more information visit http://phillytodo.com/events/br
 andywine-polo-opening-day-picnic-bbq-pig-roast
DTSTART:20120527T180000Z
DTEND:20120528T000000Z
CATEGORIES:memorial, weekend, bbq
LOCATION:Brandywine Polo Club
WEBSITE:https://www.upcomingevents.com/secure/tickets/buy/10580/ptodo
URL:https://www.upcomingevents.com/secure/tickets/buy/10580/ptodo
CONTACT:
ORGANIZER;CN="UpcomingEvents.com":http://phillytodo.com/profile/Upcomi
 ngEventscom
ATTACH;FMTTYPE="image/jpeg":http://storage.ning.com/topology/rest/1.0/
 file/get/3054960532?profile=original
ATTENDEE;ROLE=REQ-PARTICIPANT;PARTSTAT=ACCEPTED;RSVP=TRUE;CN="Upcoming
 Events.com":http://phillytodo.com/profile/UpcomingEventscom
END:VEVENT
END:VCALENDAR
