BEGIN:VCALENDAR
PRODID:NingEventWidget-v1
VERSION:2.0
METHOD:PUBLISH
BEGIN:VEVENT
UID:4320450:Event:51949
DTSTAMP:20260425T125813Z
SUMMARY:Brandon Ballengée: Sea of Vulnerability
DESCRIPTION:International artist, biologist and environmental educator
  Brandon Ballengée opens the gallery season with Sea of Vulnerability
 , a series of trans-disciplinary installations, assemblages, and mixed
  media artworks inspired from his ecological field and laboratory rese
 arch that offer dramatic visual representations of biological species 
 that are in decline, threatened, or already lost to extinction. The ex
 hibit is on display from September 14 – November 5, 2017. An artist 
 lecture will be on Thursday, September 14 from 3:30 – 4:30 pm in Wes
 tby Hall, Room 111 with a reception to follow from 5:00 – 7:30 pm at
  the Rowan University Art Gallery, 301 West High St. in Glassboro.\n\n
 For more information visit http://phillytodo.com/events/brandon-ballen
 g-e-sea-of-vulnerability
DTSTART:20170914T210000Z
DTEND:20170914T233000Z
CATEGORIES:opening, reception
LOCATION:Rowan University Art Gallery
WEBSITE:http://www.rowan.edu/artgallery/about.cfm
URL:http://www.rowan.edu/artgallery/about.cfm
CONTACT:8562564521
ORGANIZER:Mary Salvante
ATTACH;FMTTYPE="image/jpeg":http://storage.ning.com/topology/rest/1.0/
 file/get/3055009465?profile=original
ATTENDEE;ROLE=REQ-PARTICIPANT;PARTSTAT=ACCEPTED;RSVP=TRUE;CN="mary sal
 vante":http://phillytodo.com/profile/marysalvante
END:VEVENT
END:VCALENDAR
