BEGIN:VCALENDAR
PRODID:NingEventWidget-v1
VERSION:2.0
METHOD:PUBLISH
BEGIN:VEVENT
UID:4320450:Event:60429
DTSTAMP:20260425T124907Z
SUMMARY:Bra Fit Clinic
DESCRIPTION:Be sure to visit the Bra Fit Clinic in the Intimate App
 arel Department at Boscov’s and have their Fit Specialist find the
  perfect style and fit for you!\n\nFor more information visit http:/
 /phillytodo.com/events/bra-fit-clinic
DTSTART:20200321T140000Z
DTEND:20200321T180000Z
CATEGORIES:fashion
LOCATION:Berkshire Mall
WEBSITE:
URL:
CONTACT:
ORGANIZER;CN=CashmanAssoc:http://phillytodo.com/profile/CashmanAssoc
ATTACH;FMTTYPE="image/jpeg":
ATTENDEE;ROLE=REQ-PARTICIPANT;PARTSTAT=ACCEPTED;RSVP=TRUE;CN=CashmanAs
 soc:http://phillytodo.com/profile/CashmanAssoc
END:VEVENT
END:VCALENDAR
