BEGIN:VCALENDAR
PRODID:NingEventWidget-v1
VERSION:2.0
METHOD:PUBLISH
BEGIN:VEVENT
UID:4320450:Event:1409
DTSTAMP:20260425T160041Z
SUMMARY:Bowling for Haiti
DESCRIPTION:Help us raise $5,000 for our upcoming trip to Haiti where 
 IPDC will provide a FREE camp to children affected by the recent Earth
 quake!\n\nHow can YOU help us reach this $5,000 goal?\n\n1) Cost is ju
 st $30 per person for Shoes, Pizza, Drinks, Prizes and UNLIMITED Bowli
 ng!!\n\n2) Sponsorships! Find family members and friends, ANYONE who i
 s willing to support you and your team! For money you personally raise
  for the event (in addition to your entrance fee) you will receive:\n*
 *A free t-shirt ($20 raised)\n**Be entered in special raffles ($40, $6
 0, $100 raised!)\n(for an Ipod, Sports Team Tickets, and MORE!)\n**If 
 your team collectively raises the most money, you will win a FANTASTIC
  PRIZE***\n\n3) Bring some cash for other raffles, pretzels, desserts 
 and MORE!!!\n\nSpecifics:\nSaturday May 1st, 2010 from 1:30pm-3:30pm\n
 Wynnewood Lanes: 2228 Haverford Rd. Ardmore, PA 19003\nTeams are to co
 nsist of 6-8 players\n\n**Prizes will also be given to the highest sco
 ring team of the night!**\n\nCome join us for TONS of Fun, all for a G
 REAT CAUSE! !\nTHANK YOU OF YOUR SUPPORT OF CHILDREN AND THE ARTS- IN 
 HAITI!!!\n\nTo reserve your team’s lane, email us at info@indigenous
 pitch.org or call us at 610.642.4630\n\nCheck us out on the web at www
 .indigenouspitch.org\n\nFor more information visit http://phillytodo.c
 om/events/bowling-for-haiti
DTSTART:20100501T173000Z
DTEND:20100501T193000Z
CATEGORIES:fundraiser
LOCATION:Wynnewood Lanes
WEBSITE:http://indigenouspitch.org/2010/03/24/new-event-bowling-for-ha
 iti/
URL:http://indigenouspitch.org/2010/03/24/new-event-bowling-for-haiti/
CONTACT:610-642-4630
ORGANIZER:Indigenous Pitch Dance Collective
ATTACH;FMTTYPE="image/jpeg":http://storage.ning.com/topology/rest/1.0/
 file/get/3054949426?profile=original
ATTENDEE;ROLE=REQ-PARTICIPANT;PARTSTAT=ACCEPTED;RSVP=TRUE;CN="Indigeno
 us Pitch Dance Collectiv":http://phillytodo.com/profile/IndigenousPitc
 hDanceCollectiv
END:VEVENT
END:VCALENDAR
