BEGIN:VCALENDAR
PRODID:NingEventWidget-v1
VERSION:2.0
METHOD:PUBLISH
BEGIN:VEVENT
UID:4320450:Event:35905
DTSTAMP:20260425T144258Z
SUMMARY:Bountiful Backyard Berries Workshop
DESCRIPTION:Registration Required. This is the perfect time of the sea
 son to plant fruits in Philadelphia. Instructor Phil Forsyth from the 
 Philadelphia Orchard Project comes to Greensgrow to give you the basic
 s of growing berries and brambles, from plant selection to planting to
  pruning.  We'll discuss common fruits like blueberries, raspberries,
  and strawberries and introduce some more unusual options like goumis,
  gooseberries, and bush cherries.\nInstructor Phil Forsyth is the dire
 ctor of the Philadelphia Orchard Project, a non-profit that plants com
 munity orchards in the city. \n \nRegister: http://www.greensgrow.or
 g/event/bountiful-backyard-berries-workshop/\n\nFor more information v
 isit http://phillytodo.com/events/bountiful-backyard-berries-workshop
DTSTART:20140426T160000Z
DTEND:20140426T180000Z
CATEGORIES:gardening, workshop
LOCATION:Greensgrow Farms
WEBSITE:http://www.greensgrow.org
URL:http://www.greensgrow.org
CONTACT:215-427-2702
ORGANIZER;CN="Greensgrow Farms":http://phillytodo.com/profile/Greensgr
 owFarms
ATTACH;FMTTYPE="image/jpeg":
ATTENDEE;ROLE=REQ-PARTICIPANT;PARTSTAT=ACCEPTED;RSVP=TRUE;CN="Greensgr
 ow Farms":http://phillytodo.com/profile/GreensgrowFarms
END:VEVENT
END:VCALENDAR
