BEGIN:VCALENDAR
PRODID:NingEventWidget-v1
VERSION:2.0
METHOD:PUBLISH
BEGIN:VEVENT
UID:4320450:Event:38816
DTSTAMP:20260425T131002Z
SUMMARY:Botanical Cocktail Hour & Vine Weaving Salon with WE THE WEEDS
DESCRIPTION:Spend an evening with LandLab artists Zya S. Levy and Kait
 lin Pomerantz of WE THE WEEDS.  Sip invasive plant cocktails and infu
 sions with the artists and special botanical guests while chatting abo
 ut global plant migration, and the ecological and cultural roles of no
 n-native species.  Participate in the hands-on creation of invasive p
 lant weavings which will go towards a WE THE WEEDS sculptural installa
 tion in spring 2015.\nRSVP online now!\nFree\n\nFor more information 
 visit http://phillytodo.com/events/botanical-cocktail-hour-vine-weavin
 g-salon-with-we-the-weeds
DTSTART:20141206T210000Z
DTEND:20141206T230000Z
CATEGORIES:cocktails, weaving
LOCATION:The Schuylkill Center for Environmental Education
WEBSITE:http://www.schuylkillcenter.org/
URL:http://www.schuylkillcenter.org/
CONTACT:215-482-7300, x110
ORGANIZER;CN="The Schuylkill Center":http://phillytodo.com/profile/Ann
 aLehrMueser
ATTACH;FMTTYPE="image/jpeg":http://storage.ning.com/topology/rest/1.0/
 file/get/3054980348?profile=original
ATTENDEE;ROLE=REQ-PARTICIPANT;PARTSTAT=ACCEPTED;RSVP=TRUE;CN="The Schu
 ylkill Center":http://phillytodo.com/profile/AnnaLehrMueser
END:VEVENT
END:VCALENDAR
