BEGIN:VCALENDAR
PRODID:NingEventWidget-v1
VERSION:2.0
METHOD:PUBLISH
BEGIN:VEVENT
UID:4320450:Event:39525
DTSTAMP:20260425T173504Z
SUMMARY:#BootyBootCamp
DESCRIPTION:The popular Saturday series is back to help you kick start
  your weekend fitness routine! Melt away the pounds with the expert tr
 ainers at the Comcast Fitness Center with weekly cross-training sessio
 ns happening every Saturday from January 10th - March 28th. Pay just $
 10 per class and you’ll receive a $10 voucher for use at The Market 
 & Shops at Comcast Center to spend on re-hydrating liquids and healthy
  or indulgent treats. Visit us The Market & Shops at Comcast Center o
 n facebook to learn how you can win $50 for coming to #BootyBootCamp!\
 n \nWIN: Check in on Facebook, Twitter or Instagram using hashtag #Bo
 otyBootCamp from ten of the twelve sessions and you'll receive a $50 g
 ift card to The Market & Shops at Comcast Center at the final class. F
 ollow us @MarketComcast on Twitter and Instagram. DON’T FORGET TO BR
 ING YOUR OWN MAT AND TOWEL!\n\nFor more information visit http://phill
 ytodo.com/events/bootybootcamp
DTSTART:20150110T140000Z
DTEND:20150110T150000Z
CATEGORIES:fitness, class
LOCATION:Market & Shops at Comcast Center
WEBSITE:https://www.facebook.com/events/417206701765554
URL:https://www.facebook.com/events/417206701765554
CONTACT:
ORGANIZER;CN=CashmanAssoc:http://phillytodo.com/profile/CashmanAssoc
ATTACH;FMTTYPE="image/jpeg":http://storage.ning.com/topology/rest/1.0/
 file/get/3054985272?profile=original
ATTENDEE;ROLE=REQ-PARTICIPANT;PARTSTAT=ACCEPTED;RSVP=TRUE;CN=CashmanAs
 soc:http://phillytodo.com/profile/CashmanAssoc
END:VEVENT
END:VCALENDAR
