BEGIN:VCALENDAR
PRODID:NingEventWidget-v1
VERSION:2.0
METHOD:PUBLISH
BEGIN:VEVENT
UID:4320450:Event:637
DTSTAMP:20260425T125008Z
SUMMARY:Book Signing and Discussion with Flyness
DESCRIPTION:Your Royal Flyness, AUTHOR, DATING EXPERT and \"MEETER\" o
 f HUNDREDS OF WOMEN ONLINE, is COMING TO PHILLY!!! Flyness will be par
 ticipating in a Book Signing and Open Discussion Form surrounding his 
 popular, yet controversial titles:\n\n-\"From MySpace to My Place: The
  Men's Guide to Snagging Women Online\"\n-\"The Ladies Guide to Findin
 g Mr. Right or Mr. Right Now Online\",\nAND\n-\"The Facebook Datebook 
 for Men\"\n\nThere will also be an afterparty for attendees at Elana's
  Soul Showcase Lounge & Cafe 4912 Baltimore Ave. RSVP NOW at flynesspu
 blishing@gmai... and BRING YOUR FRIENDS!\n\nFor more information visit
  http://phillytodo.com/events/book-signing-and-discussion
DTSTART:20100206T220000Z
DTEND:20100207T000000Z
CATEGORIES:book, signing, and, seminar
LOCATION:Robins Bookstore/Moons tone Arts Center
WEBSITE:http://www.yelp.com/events/philadelphia-book-signing-and-discu
 ssion-with-flyness
URL:http://www.yelp.com/events/philadelphia-book-signing-and-discussio
 n-with-flyness
CONTACT:
ORGANIZER;CN="Your Royal Flyness":http://phillytodo.com/profile/YourRo
 yalFlyness
ATTACH;FMTTYPE="image/jpeg":http://storage.ning.com/topology/rest/1.0/
 file/get/3054943055?profile=original
ATTENDEE;ROLE=REQ-PARTICIPANT;PARTSTAT=ACCEPTED;RSVP=TRUE;CN="Your Roy
 al Flyness":http://phillytodo.com/profile/YourRoyalFlyness
END:VEVENT
END:VCALENDAR
