BEGIN:VCALENDAR
PRODID:NingEventWidget-v1
VERSION:2.0
METHOD:PUBLISH
BEGIN:VEVENT
UID:4320450:Event:7405
DTSTAMP:20260425T150056Z
SUMMARY:Bodybuilding, Figure & Bikini Show
DESCRIPTION:Tickets Click herePoster and Tickets\n2011         
    \nPENNSYLVANIA\nBodybuilding, Figure and Bikini CLASSIC\nPro-Qua
 lifier\nSaturday, April 2nd, 2011 –Philadelphia Expo Center at Oaks;
 \n100 Station Avenue, Oaks, PA 19456\n \nTickets available at TicketM
 aster.com\nclick here\n\nFor more information visit http://phillytodo.
 com/events/bodybuilding-figure-bikini
DTSTART:20110402T150000Z
DTEND:20110402T220000Z
CATEGORIES:bodybuilding, figure, bikini
LOCATION:Greater Philly Expo Center Oaks PA
WEBSITE:
URL:
CONTACT:
ORGANIZER;CN="james jefferson":http://phillytodo.com/profile/jamesjeff
 erson
ATTACH;FMTTYPE="image/jpeg":http://storage.ning.com/topology/rest/1.0/
 file/get/3054954341?profile=original
ATTENDEE;ROLE=REQ-PARTICIPANT;PARTSTAT=ACCEPTED;RSVP=TRUE;CN="james je
 fferson":http://phillytodo.com/profile/jamesjefferson
END:VEVENT
END:VCALENDAR
