BEGIN:VCALENDAR
PRODID:NingEventWidget-v1
VERSION:2.0
METHOD:PUBLISH
BEGIN:VEVENT
UID:4320450:Event:55405
DTSTAMP:20260425T143302Z
SUMMARY:Bodhisattva Vow: Becoming a Friend to the World
DESCRIPTION:Through understanding and practicing Buddha’s teachings 
 on bodhichitta, the mind of enlightenment, we can develop a powerfully
  joyful and loving heart which we can use to heal our own suffering an
 d the suffering of others around us.\nIn this special day course, we w
 ill hear profound but practical teachings on this supremely altruistic
  mind, how to develop it inside in our heart through meditation and da
 ily practice, and how to become a friend to the world who affects ever
 yone they meet in the best possible way.\nFinally, a special Bodhisatt
 va Vow ceremony will be offered in which people will have the opportun
 ity to become a member of the Mahayana Buddhist family, becoming like 
 a son or daughter of Buddha. This vow will ensure the swift attainment
  of enlightenment for whoever takes it. It is said whoever takes the B
 odhisattva Vow and keeps it purely will constantly be creating positiv
 e energy day and night, even while asleep.\nThis day will be based on 
 the book, Guide to the Bodhisattva’s Way of Life, which is availabl
 e at our bookstore.\nTaught by Resident Teacher, Gen Tenzin.\nSchedul
 e:11:00am-12:30pm: Teaching on How to be a Bodhisattva (Friend of the 
 World) in the City2:00-3:15: Teaching on The Joyful Path of a Bodhisat
 tva: Understanding the Bodhisattva Vow3:30-4:30: Bodhisattva Vow Cerem
 ony (optional)\n\nCost: $30\n\nFor more information visit http://phill
 ytodo.com/events/bodhisattva-vow-becoming-a-friend-to-the-world
DTSTART:20180623T150000Z
DTEND:20180623T203000Z
CATEGORIES:meditation, buddhism, religion, spirituality
LOCATION:Kadampa Meditation Center Philadelphia
WEBSITE:http://www.meditationinphiladelphia.org/bodhisattva-vow-becomi
 ng-a-friend-to-the-world-june-23/
URL:http://www.meditationinphiladelphia.org/bodhisattva-vow-becoming-a
 -friend-to-the-world-june-23/
CONTACT:267-702-3817
ORGANIZER;CN="Education Program Coordinator":http://phillytodo.com/pro
 file/EducationProgramCoordinator
ATTACH;FMTTYPE="image/jpeg":http://storage.ning.com/topology/rest/1.0/
 file/get/3055015763?profile=original
ATTENDEE;ROLE=REQ-PARTICIPANT;PARTSTAT=ACCEPTED;RSVP=TRUE;CN="Educatio
 n Program Coordinator":http://phillytodo.com/profile/EducationProgramC
 oordinator
END:VEVENT
END:VCALENDAR
