BEGIN:VCALENDAR
PRODID:NingEventWidget-v1
VERSION:2.0
METHOD:PUBLISH
BEGIN:VEVENT
UID:4320450:Event:51006
DTSTAMP:20260425T124847Z
SUMMARY:Bluest Eye
DESCRIPTION:Adapted by Lydia R. Diamond Directed by Raelle Myrick-Hod
 ges March 1 - April 1, 2018On the F. Otto Haas Stage Pecola Breedlov
 e, a young black girl growing up in the 1940's, wants nothing more tha
 n to be loved. Confronting turmoil at home, she prays for Shirley Temp
 le’s blue eyes, believing their beauty is the only thing standing be
 tween her and the happiness of the white girls at school. This powerfu
 l adaptation explores the destructive power of racism and the strength
  of a community attempting to embrace an era of change.\n\nFor more in
 formation visit http://phillytodo.com/events/bluest-eye
DTSTART:20180302T000000Z
DTEND:20180401T180000Z
CATEGORIES:theatre
LOCATION:Arden Theatre Company
WEBSITE:https://tickets.ardentheatre.org/Online/default.asp?BOparam::W
 Scontent::loadArticle::permalink=lof&BOparam::WScontent::loadArticle::
 context_id=
URL:https://tickets.ardentheatre.org/Online/default.asp?BOparam::WScon
 tent::loadArticle::permalink=lof&BOparam::WScontent::loadArticle::cont
 ext_id=
CONTACT:215.922.1122.
ORGANIZER;CN="Arden Theatre Company":http://phillytodo.com/profile/Ard
 enTheatreCompany
ATTACH;FMTTYPE="image/jpeg":http://storage.ning.com/topology/rest/1.0/
 file/get/3055009198?profile=original
ATTENDEE;ROLE=REQ-PARTICIPANT;PARTSTAT=ACCEPTED;RSVP=TRUE;CN="Arden Th
 eatre Company":http://phillytodo.com/profile/ArdenTheatreCompany
END:VEVENT
END:VCALENDAR
