BEGIN:VCALENDAR
PRODID:NingEventWidget-v1
VERSION:2.0
METHOD:PUBLISH
BEGIN:VEVENT
UID:4320450:Event:55701
DTSTAMP:20260425T125821Z
SUMMARY:BLUEBIRD DISTILLING CELEBRATES THIRD ANNIVERSARY WITH INDOOR-O
 UTDOOR PARTY AND NEW WHISKEY RELEASE
DESCRIPTION:Bluebird Distilling, Phoenixville’s award-winning grain-
 to-glass craft distillery, is celebrating their third anniversary wit
 h Bluebird Bonanza, an all-day indoor-outdoor party as well as a lim
 ited release of their newest spirit, Phoenixville Whiskey, on Sunda
 y, June 24th. \n \nFrom noon to 11 pm guests will enjoy an outdoor
  rum bar in the distillery parking lot flanking bustling Bridge St. bo
 asting cocktails from Beverage Manager Matt Giarratano, complementary
  tastings of Bluebird’s expansive selection of grain-to-glass spirit
 s, savory bites from KaChi Korean Food Truck, corn hole, giveaways, p
 rizes and more.\n  \n“The anniversary party is always my favorite 
 day of the year,” said Bluebird Distilling Founder, Jared Adkins. 
 Not only is our third anniversary celebration twice as long, it’s 
 sure to be the biggest event yet, with the debut of new craft cocktail
 s, a food truck, live music and the release of our Phoenixville Whiske
 y.” \n  \nAdkins is honoring the third anniversary by releasing a
  limited edition Phoenixville Straight Whiskey. Coming in at 86 proof,
  this soft and sweet spirit is the perfect blend of Bluebird Distillin
 g’s Rye Whiskey, Wheat Whiskey and Four Grain Bourbon, also known as
  America’s original whiskeys. This unique blend is honoring the clas
 sic makeup of America’s whiskeys, combining vanilla from the Bourbon
 , butterscotch from the Wheat and a rich cherry spice from the Rye. \
 n  \nThe Phoenixville Whiskey is a limited-edition spirit only avail
 able at the distillery for $40.\n\nBluebird Distilling’s third anniv
 ersary comes on the heels of an exciting expansion with the addition o
 f two 1,200 gallon fermenters at the distillery along with other tanks
  and vessels, allowing Adkins and his skilled team to increase the whi
 skey output by 50%.\n\nFor more information about Bluebird Distilling,
  follow them on Twitter: @BBIRDDistilling,   Instagram: @BluebirdDi
 stilling,   Facebook/Bluebird-Distilling\n\nFor more information vi
 sit http://phillytodo.com/events/bluebird-distilling-celebrates-third-
 anniversary-with-indoor
DTSTART:20180624T160000Z
DTEND:20180625T030000Z
CATEGORIES:anniversary, outdoor, party
LOCATION:Bluebird Distillery
WEBSITE:http://bluebirddistilling.com/
URL:http://bluebirddistilling.com/
CONTACT:(610) 933-7827
ORGANIZER:Bluebird Distilling
ATTACH;FMTTYPE="image/jpeg":
ATTENDEE;ROLE=REQ-PARTICIPANT;PARTSTAT=ACCEPTED;RSVP=TRUE;CN="Punch Me
 dia":http://phillytodo.com/profile/PunchMedia
END:VEVENT
END:VCALENDAR
