BEGIN:VCALENDAR
PRODID:NingEventWidget-v1
VERSION:2.0
METHOD:PUBLISH
BEGIN:VEVENT
UID:4320450:Event:51943
DTSTAMP:20260425T162711Z
SUMMARY:Blue Oyster Cult at Valley Forge Music Fair
DESCRIPTION:Valley Forge Casino Resort (1160 First Avenue) presents Bl
 ue Oyster Cult as part of Valley Forge Music Fair on Friday, September
  29, 2017. For over four decades, Blue Öyster Cult has been thrilling
  hard rock fans worldwide with hard rock and heavy metal songs like \"
 (Don't Fear) The Reaper\", \"Godzilla\" and \"Burnin' for You\". The L
 ong Island, NY– based band occupies a unique place in rock history a
 s one of the few hard rock/heavy metal bands to earn both mainstream c
 ritical acclaim as well as commercial success. Doors of The Venue open
  at 8:00pm and the show starts at 9:00pm. Ticket prices range from $45
 -47.50 and are on sale now at Ticketmaster.com.\n\nFor more informatio
 n visit http://phillytodo.com/events/blue-oyster-cult-at-valley-forge-
 music-fair
DTSTART:20170930T010000Z
DTEND:20170930T030000Z
CATEGORIES:concert
LOCATION:The Venue at Valley Forge Casino Resort
WEBSITE:https://www.vfcasino.com/events/blue-oyster-cult/
URL:https://www.vfcasino.com/events/blue-oyster-cult/
CONTACT:610-354-8222
ORGANIZER:Valley Forge Casino Resort
ATTACH;FMTTYPE="image/jpeg":http://storage.ning.com/topology/rest/1.0/
 file/get/3055005579?profile=original
ATTENDEE;ROLE=REQ-PARTICIPANT;PARTSTAT=ACCEPTED;RSVP=TRUE;CN="Aversa P
 R & Events":http://phillytodo.com/profile/KoryAversa277
END:VEVENT
END:VCALENDAR
