BEGIN:VCALENDAR
PRODID:NingEventWidget-v1
VERSION:2.0
METHOD:PUBLISH
BEGIN:VEVENT
UID:4320450:Event:39064
DTSTAMP:20260425T142557Z
SUMMARY:Blue Cross RiverRink Winterfest Tree Lighting
DESCRIPTION:Blue Cross RiverRink Winterfest recently became home to on
 e of Philadelphiaâ€™s largest real Christmas trees. Topping out at 43â
 €™ and almost 5,000 pounds, this beautiful tree will be the center of 
 holiday festivities on Friday, December 5, during a FREE tree lighting
  ceremony which will feature: Olde Towne Carolers, Philadelphia Youth 
 Ballet, Vanessa Howard, Philadelphia Symmetry Synchronized Skating, Ph
 iladelphia Handbell Ensemble, String Theory School of the Performing A
 rts, In the Mix Acapella, and a performance by Sister Cities Girlchoir
 , a choir that empowers girls in disadvantaged neighborhoods to build 
 communities of music makers. Tree lighting attendees will also get a c
 hance to skate with Santa, do make and take crafts, and other ambient 
 entertainment. Dunkin Donuts will also be on site sampling delicious h
 ot beverages.\n\nFor more information visit http://phillytodo.com/even
 ts/blue-cross-riverrink-winterfest-tree-lighting
DTSTART:20141205T233000Z
DTEND:20141206T010000Z
CATEGORIES:holiday, tree, lighting
LOCATION:Blue Cross RiverRink
WEBSITE:http://www.delawareriverwaterfront.com/places/blue-cross-river
 rink
URL:http://www.delawareriverwaterfront.com/places/blue-cross-riverrink
CONTACT:215-925-RINK
ORGANIZER;CN="Delaware River Waterfront Corp.":http://phillytodo.com/p
 rofile/DelawareRiverWaterfrontCorp
ATTACH;FMTTYPE="image/jpeg":http://storage.ning.com/topology/rest/1.0/
 file/get/3054985110?profile=original
ATTENDEE;ROLE=REQ-PARTICIPANT;PARTSTAT=ACCEPTED;RSVP=TRUE;CN="Delaware
  River Waterfront Corp.":http://phillytodo.com/profile/DelawareRiverWa
 terfrontCorp
END:VEVENT
END:VCALENDAR
