BEGIN:VCALENDAR
PRODID:NingEventWidget-v1
VERSION:2.0
METHOD:PUBLISH
BEGIN:VEVENT
UID:4320450:Event:38056
DTSTAMP:20260425T173706Z
SUMMARY:Blue Banyan Yoga Retreat
DESCRIPTION:The change in seasons can have profound effects on our bod
 ies and psyches. Tune into nature’s flow and rebalance your body and
  mind with this special yoga retreat. Sophie Simpson, of Blue Banyan Y
 oga in Mt. Airy, guides you through two hours of yoga, breath work, an
 d mental quieting—all outdoors amid the beauty of nature. Pre-regist
 ration required.\n\nFor more information visit http://phillytodo.com/e
 vents/blue-banyan-yoga-retreat
DTSTART:20141011T130000Z
DTEND:20141011T150000Z
CATEGORIES:for, kids
LOCATION:The Schuylkill Center for Environmental Education
WEBSITE:http://www.schuylkillcenter.orghttp://www.schuylkillcenter.org
 /blog/event/blue-banyan-yoga-retreat/
URL:http://www.schuylkillcenter.orghttp://www.schuylkillcenter.org/blo
 g/event/blue-banyan-yoga-retreat/
CONTACT:(215) 482-7300
ORGANIZER;CN="The Schuylkill Center":http://phillytodo.com/profile/Ann
 aLehrMueser
ATTACH;FMTTYPE="image/jpeg":http://storage.ning.com/topology/rest/1.0/
 file/get/3054980396?profile=original
ATTENDEE;ROLE=REQ-PARTICIPANT;PARTSTAT=ACCEPTED;RSVP=TRUE;CN="The Schu
 ylkill Center":http://phillytodo.com/profile/AnnaLehrMueser
END:VEVENT
END:VCALENDAR
