BEGIN:VCALENDAR
PRODID:NingEventWidget-v1
VERSION:2.0
METHOD:PUBLISH
BEGIN:VEVENT
UID:4320450:Event:54734
DTSTAMP:20260425T124850Z
SUMMARY:Bloomin’ Make + Take
DESCRIPTION:On Tuesday February 27th guests are invited to preview the
  2018 Philadelphia Flower Show at the Market & Shops at the Comcast Ce
 nter with a bloom-inspired evening, complete with DIY succulent planti
 ng, bouquet making and more! Floral, spiced & everything nice cocktail
 s will be provide by Veda Modern Indian Bistro along with light bites.
  During the event, we will be raffling off three tickets to the Philad
 elphia Flower Show! Tickets are $5 and guest must register to attend o
 n the Market & Shops Facebook page.\n\nFor more information visit http
 ://phillytodo.com/events/bloomin-make-take
DTSTART:20180227T220000Z
DTEND:20180228T000000Z
CATEGORIES:special, event
LOCATION:The Market &amp; Shops at the Comcast Center
WEBSITE:https://marketandshops.ticketleap.com/bloomin-make--take/
URL:https://marketandshops.ticketleap.com/bloomin-make--take/
CONTACT:215-627-1060
ORGANIZER;CN=CashmanAssoc:http://phillytodo.com/profile/CashmanAssoc
ATTACH;FMTTYPE="image/jpeg":http://storage.ning.com/topology/rest/1.0/
 file/get/3055011424?profile=original
ATTENDEE;ROLE=REQ-PARTICIPANT;PARTSTAT=ACCEPTED;RSVP=TRUE;CN=CashmanAs
 soc:http://phillytodo.com/profile/CashmanAssoc
END:VEVENT
END:VCALENDAR
