BEGIN:VCALENDAR
PRODID:NingEventWidget-v1
VERSION:2.0
METHOD:PUBLISH
BEGIN:VEVENT
UID:4320450:Event:2146
DTSTAMP:20260425T184906Z
SUMMARY:Bloktoberfest 2010
DESCRIPTION:Now in its second year, this day-long outdoor festival wil
 l feature representatives of select craft breweries from around the co
 untry showcasing their biggest and best fall beers, as well as delicio
 us food from Philly food trucks, and a great line-up of live music fro
 m nationally recognized and emerging local acts.\n\nBloktoberfest is a
 ll-ages and free to attend. Proceeds from beer sales at the event will
  be directed toward vital architectural preservation work for the Shil
 oh Baptist Church at 2040 Christian St, a stunning building designed b
 y Frank Furness in 1868 and listed in the Philadelphia Register of His
 toric Places.\n\nFor more information visit http://phillytodo.com/even
 ts/bloktoberfest-2010
DTSTART:20101016T160000Z
DTEND:20101017T000000Z
CATEGORIES:festival
LOCATION:2000 Block of Christian Street (btw 20th & 21st)
WEBSITE:http://www.bloktoberfestphilly.com
URL:http://www.bloktoberfestphilly.com
CONTACT:
ORGANIZER;CN=Bloktoberfest:http://phillytodo.com/profile/Bloktoberfest
ATTACH;FMTTYPE="image/jpeg":http://storage.ning.com/topology/rest/1.0/
 file/get/3054950535?profile=original
ATTENDEE;ROLE=REQ-PARTICIPANT;PARTSTAT=ACCEPTED;RSVP=TRUE;CN=Bloktober
 fest:http://phillytodo.com/profile/Bloktoberfest
END:VEVENT
END:VCALENDAR
