BEGIN:VCALENDAR
PRODID:NingEventWidget-v1
VERSION:2.0
METHOD:PUBLISH
BEGIN:VEVENT
UID:4320450:Event:41373
DTSTAMP:20260425T155039Z
SUMMARY:Blogging as Social Action
DESCRIPTION:This workshop takes concepts from text and image on print 
 and moves them online to harness the power of the virtual network. Blo
 gging finds its effectiveness in its ability to not only mediate betwe
 en a public and private persona, it also allows us to reach larger com
 munities of like-minded people. In this workshop, we will work with th
 ree different blogging genres that will hitch your ideas to these comm
 unities.\n\nPrerequisites: You will need to have a blog already in pla
 ce before attending this workshop. If you have no idea how to do this,
  then please contact charlene.kwon@gmail.com for directions for settin
 g up a blogging account. $25 ($20 for members). Please email info@phil
 lysoapbox.org to register.\n \nhttps://www.facebook.com/events/143337
 6330319229/\n\nFor more information visit http://phillytodo.com/events
 /blogging-as-social-action
DTSTART:20150719T190000Z
DTEND:20150719T220000Z
CATEGORIES:workshop
LOCATION:The Soapbox: Philadelphia's Independent Publishing Center
WEBSITE:http://www.phillysoapbox.org
URL:http://www.phillysoapbox.org
CONTACT:
ORGANIZER:The Soapbox: Philadelphia's Independent Publishing Center
ATTACH;FMTTYPE="image/jpeg":
ATTENDEE;ROLE=REQ-PARTICIPANT;PARTSTAT=ACCEPTED;RSVP=TRUE;CN="Philly S
 oap Box":http://phillytodo.com/profile/PhillySoapBox
END:VEVENT
END:VCALENDAR
