BEGIN:VCALENDAR
PRODID:NingEventWidget-v1
VERSION:2.0
METHOD:PUBLISH
BEGIN:VEVENT
UID:4320450:Event:56211
DTSTAMP:20260425T145012Z
SUMMARY:Bliss Day Retreat and Tsog Party with Gen Tenzin: Being Like B
 uddha
DESCRIPTION:On this special day, we will learn profound methods for ma
 king our mind peaceful and happy. Because our world, our self, and our
  enjoyments are the nature of the mind, when our mind is impure our wo
 rld is impure, and when our mind is like Buddha’s, everything we exp
 erience is pure and perfect.\nWe now have an incredible opportunity to
  practice these special methods right here in the city with a teacher 
 and spiritual friends, and create the causes to live in an enlightened
  world of peace, bliss, and wisdom.\nJoin us for this special retreat 
 where we will be guided in meditation on these precious practices.\nWe
  will then enjoy a session of chanted prayers and an after-party inclu
 ding many delicious desserts.\nYou are welcome to stay for all session
 s or drop in when you can.\nLed by Resident Teacher, Gen Tenzin.\nSess
 ions:11am – 12pm Session 1, $52pm – 3pm Session 2, $54pm – 6pm O
 SG Tsog & Party, No cost\nEveryone is welcome.\n\nFor more information
  visit http://phillytodo.com/events/bliss-day-retreat-and-tsog-party-w
 ith-gen-tenzin-being-like
DTSTART:20180825T150000Z
DTEND:20180825T220000Z
CATEGORIES:buddhism, meditation
LOCATION:Kadampa Meditation Center Philadelphia
WEBSITE:http://www.meditationinphiladelphia.org/bliss-day-retreat-and-
 tsog-party-with-gen-tenzin-being-like-buddha-aug-25/
URL:http://www.meditationinphiladelphia.org/bliss-day-retreat-and-tsog
 -party-with-gen-tenzin-being-like-buddha-aug-25/
CONTACT:267-702-3817
ORGANIZER;CN="Education Program Coordinator":http://phillytodo.com/pro
 file/EducationProgramCoordinator
ATTACH;FMTTYPE="image/jpeg":http://storage.ning.com/topology/rest/1.0/
 file/get/3055014776?profile=original
ATTENDEE;ROLE=REQ-PARTICIPANT;PARTSTAT=ACCEPTED;RSVP=TRUE;CN="Educatio
 n Program Coordinator":http://phillytodo.com/profile/EducationProgramC
 oordinator
END:VEVENT
END:VCALENDAR
