BEGIN:VCALENDAR
PRODID:NingEventWidget-v1
VERSION:2.0
METHOD:PUBLISH
BEGIN:VEVENT
UID:4320450:Event:45419
DTSTAMP:20260425T144336Z
SUMMARY:Blingo to Cure Duchenne
DESCRIPTION:Join us for the 3rd annual Blingo, a night of celebrity b
 ingo where hundreds of Philadelphians come together to make a huge dif
 ference for the thousands of boys suffering from fatal Duchenne Muscul
 ar Dystrophy. Celebrate this glammed-out evening with cocktails, gourm
 et foods, music and a live auction. \n\nFor more information visit ht
 tp://phillytodo.com/events/blingo-to-cure-duchenne
DTSTART:20160430T230000Z
DTEND:20160501T030000Z
CATEGORIES:fundraiser
LOCATION:The Logan Hotel
WEBSITE:http://www.blingophilly.org/.
URL:http://www.blingophilly.org/.
CONTACT:2156271060
ORGANIZER:
ATTACH;FMTTYPE="image/jpeg":
ATTENDEE;ROLE=REQ-PARTICIPANT;PARTSTAT=ACCEPTED;RSVP=TRUE;CN=CashmanAs
 soc:http://phillytodo.com/profile/CashmanAssoc
END:VEVENT
END:VCALENDAR
